BEGIN:VCALENDAR
VERSION:2.0
CALSCALE:GREGORIAN
PRODID:-//Diputació de Barcelona//DibaCMS//EN
BEGIN:VEVENT
UID:990
DTSTAMP:20260419T221838
DTSTART:20161126T110000
DTEND:20161126T130000
SUMMARY:25N Dia internacional contra la violència de gènere- Instal·lació Zapatos Rojos
LOCATION:
METHOD:PUBLISH
X-WR-CALNAME:capellades@capellades.cat
X-WR-TIMEZONE:Europe/Madrid
DESCRIPTION:

URI:https://www.capellades.cat/actualitat/agenda/25n-dia-internacional-contra-la-violencia-de-genere-installacio-zapatos-rojos.html
CLASS:PUBLIC
END:VEVENT
END:VCALENDAR
