BEGIN:VCALENDAR
VERSION:2.0
CALSCALE:GREGORIAN
PRODID:-//Diputació de Barcelona//DibaCMS//EN
BEGIN:VEVENT
UID:989
DTSTAMP:20260419T222013
DTSTART:20161127T170000
DTEND:20161127T000000
SUMMARY:Festival Solidàri per 1 Kg - Coro Romero Virgen de la Cabeza
LOCATION:
METHOD:PUBLISH
X-WR-CALNAME:capellades@capellades.cat
X-WR-TIMEZONE:Europe/Madrid
DESCRIPTION:

URI:https://www.capellades.cat/actualitat/agenda/festival-solidari-per-1-kg-coro-romero-virgen-de-la-cabeza.html
CLASS:PUBLIC
END:VEVENT
END:VCALENDAR
