BEGIN:VCALENDAR
VERSION:2.0
CALSCALE:GREGORIAN
PRODID:-//Diputació de Barcelona//DibaCMS//EN
BEGIN:VEVENT
UID:988
DTSTAMP:20260420T010845
DTSTART:20161124T091500
DTEND:20161124T121500
SUMMARY:Festival d'orgue de Capellades - concert escolar de descoberta
LOCATION:
METHOD:PUBLISH
X-WR-CALNAME:capellades@capellades.cat
X-WR-TIMEZONE:Europe/Madrid
DESCRIPTION:CONCERTS DE DESCOBERTA DE L'ORGUE FREIXAS VIVÓ AMB LES ESCOLES DE CAPELLADES 

 

El Festival d'Orgue, en aquesta primera edició, té un objectiu principal: donar a conèixer aquest magnífic instrument al gruix de la població, mostrant, tan a nivell de repertori com d'intèrprets, la diversitat de registres i possibilitats de l'orgue que tenim a Capellades.

El Festival, però, no vol ni pot oblidar el públic més jove. En aquest sentit ha programat, conjuntament amb els centres educatius de Capellades, una jornada de descoberta de l'Orgue Freixas Vivó, enfocada principalment als alumnes del darrer curs de primària (6è) de l'Escola Marquès de la Pobla i Col·legi Mare del Diví Pastor.

Estructura de la sessió

15/20min explicació funcionament instrument

20 min petit concert

Professor

Jonatan Carbó (professor d'orgue al Conservatori de Grau Mitjà “Mestre Joan Just i Bertran” d'Igualada i de l'Escola Municipal de Música “Pau Casals” del Vendrell)





URI:https://www.capellades.cat/actualitat/agenda/festival-dorgue-de-capellades-concert-escolar-de-descoberta.html
CLASS:PUBLIC
END:VEVENT
END:VCALENDAR
