BEGIN:VCALENDAR
VERSION:2.0
CALSCALE:GREGORIAN
PRODID:-//Diputació de Barcelona//DibaCMS//EN
BEGIN:VEVENT
UID:987
DTSTAMP:20260420T024135
DTSTART:20161120T180000
DTEND:20161120T000000
SUMMARY:Festival d'Orgue de Capellades - Concert de Sta. Cecília
LOCATION:
METHOD:PUBLISH
X-WR-CALNAME:capellades@capellades.cat
X-WR-TIMEZONE:Europe/Madrid
DESCRIPTION:

URI:https://www.capellades.cat/actualitat/agenda/festival-dorgue-de-capellades-concert-de-sta-cecilia.html
CLASS:PUBLIC
END:VEVENT
END:VCALENDAR
