BEGIN:VCALENDAR
VERSION:2.0
CALSCALE:GREGORIAN
PRODID:-//Diputació de Barcelona//DibaCMS//EN
BEGIN:VEVENT
UID:985
DTSTAMP:20260423T045835
DTSTART:20161111T000000
DTEND:20161115T000000
SUMMARY:Activitats del Dia mundial de la diabetis 
LOCATION:
METHOD:PUBLISH
X-WR-CALNAME:capellades@capellades.cat
X-WR-TIMEZONE:Europe/Madrid
DESCRIPTION:14 NOVEMBRE- DIA MUNDIAL DE LA DIABETIS

ACTIVITATS INFORMATIVES



URI:https://www.capellades.cat/actualitat/agenda/activitats-del-dia-mundial-de-la-diabetis-.html
CLASS:PUBLIC
END:VEVENT
END:VCALENDAR
