BEGIN:VCALENDAR
VERSION:2.0
CALSCALE:GREGORIAN
PRODID:-//Diputació de Barcelona//DibaCMS//EN
BEGIN:VEVENT
UID:983
DTSTAMP:20260420T055336
DTSTART:20161126T203000
DTEND:20161126T000000
SUMMARY:Concert de Santa Cecília-Coral Noves Veus
LOCATION:
METHOD:PUBLISH
X-WR-CALNAME:capellades@capellades.cat
X-WR-TIMEZONE:Europe/Madrid
DESCRIPTION:

URI:https://www.capellades.cat/actualitat/agenda/concert-de-santa-cecilia-coral-noves-veus.html
CLASS:PUBLIC
END:VEVENT
END:VCALENDAR
