BEGIN:VCALENDAR
VERSION:2.0
CALSCALE:GREGORIAN
PRODID:-//Diputació de Barcelona//DibaCMS//EN
BEGIN:VEVENT
UID:981
DTSTAMP:20260423T074731
DTSTART:20161112T130000
DTEND:20161112T000000
SUMMARY:IX Bienal d'Art al Museu Molí Paperer
LOCATION:
METHOD:PUBLISH
X-WR-CALNAME:capellades@capellades.cat
X-WR-TIMEZONE:Europe/Madrid
DESCRIPTION:

URI:https://www.capellades.cat/actualitat/agenda/ix-bienal-dart-al-museu-moli-paperer.html
CLASS:PUBLIC
END:VEVENT
END:VCALENDAR
