BEGIN:VCALENDAR
VERSION:2.0
CALSCALE:GREGORIAN
PRODID:-//Diputació de Barcelona//DibaCMS//EN
BEGIN:VEVENT
UID:980
DTSTAMP:20260423T045747
DTSTART:20161112T120000
DTEND:20161112T000000
SUMMARY:Exposició fotogràfica a la Sala Les Voltes Casa Bas
LOCATION:
METHOD:PUBLISH
X-WR-CALNAME:capellades@capellades.cat
X-WR-TIMEZONE:Europe/Madrid
DESCRIPTION:

URI:https://www.capellades.cat/actualitat/agenda/exposicio-fotografica-a-la-sala-les-voltes-casa-bas.html
CLASS:PUBLIC
END:VEVENT
END:VCALENDAR
