BEGIN:VCALENDAR
VERSION:2.0
CALSCALE:GREGORIAN
PRODID:-//Diputació de Barcelona//DibaCMS//EN
BEGIN:VEVENT
UID:979
DTSTAMP:20260423T045905
DTSTART:20161113T180000
DTEND:20161113T000000
SUMMARY:Esbart Dansot 43è aniversari
LOCATION:
METHOD:PUBLISH
X-WR-CALNAME:capellades@capellades.cat
X-WR-TIMEZONE:Europe/Madrid
DESCRIPTION:ESBART DANSOT

43è ANIVERSARI

RECULL DE DANSES AMB LA COBLA ALMOGAVARENCA



Preu entrada general: 10€ 

Socis/es La Lliga: 7,5€

Entrada lliure als menosrs de 16 anys

Venda d'entrades anticipades: Divendres 11 novembre a La LLiga, de 19h a 20h

URI:https://www.capellades.cat/actualitat/agenda/esbart-dansot-43e-aniversari.html
CLASS:PUBLIC
END:VEVENT
END:VCALENDAR
