BEGIN:VCALENDAR
VERSION:2.0
CALSCALE:GREGORIAN
PRODID:-//Diputació de Barcelona//DibaCMS//EN
BEGIN:VEVENT
UID:978
DTSTAMP:20260423T045946
DTSTART:20161111T200000
DTEND:20161111T000000
SUMMARY:Retalls de Cuina - Receptes de Nadal
LOCATION:
METHOD:PUBLISH
X-WR-CALNAME:capellades@capellades.cat
X-WR-TIMEZONE:Europe/Madrid
DESCRIPTION:Retalls de Cuina

Taller de receptes de Nadal

els divendres 11,18 i 25 de novembre





URI:https://www.capellades.cat/actualitat/agenda/retalls-de-cuina-receptes-de-nadal.html
CLASS:PUBLIC
END:VEVENT
END:VCALENDAR
