BEGIN:VCALENDAR
VERSION:2.0
CALSCALE:GREGORIAN
PRODID:-//Diputació de Barcelona//DibaCMS//EN
BEGIN:VEVENT
UID:977
DTSTAMP:20260419T174255
DTSTART:20161102T000000
DTEND:20161102T000000
SUMMARY:Dia Internacional contra la Violència de Gèrene
LOCATION:
METHOD:PUBLISH
X-WR-CALNAME:capellades@capellades.cat
X-WR-TIMEZONE:Europe/Madrid
DESCRIPTION:
URI:https://www.capellades.cat/actualitat/agenda/dia-internacional-contra-la-violencia-de-gerene.html
CLASS:PUBLIC
END:VEVENT
END:VCALENDAR
