BEGIN:VCALENDAR
VERSION:2.0
CALSCALE:GREGORIAN
PRODID:-//Diputació de Barcelona//DibaCMS//EN
BEGIN:VEVENT
UID:975
DTSTAMP:20260419T200216
DTSTART:20161103T183000
DTEND:20161103T200000
SUMMARY:Taller d'Internet per a Pares
LOCATION:
METHOD:PUBLISH
X-WR-CALNAME:capellades@capellades.cat
X-WR-TIMEZONE:Europe/Madrid
DESCRIPTION:

URI:https://www.capellades.cat/actualitat/agenda/taller-dinternet-per-a-pares.html
CLASS:PUBLIC
END:VEVENT
END:VCALENDAR
