BEGIN:VCALENDAR
VERSION:2.0
CALSCALE:GREGORIAN
PRODID:-//Diputació de Barcelona//DibaCMS//EN
BEGIN:VEVENT
UID:974
DTSTAMP:20260419T174424
DTSTART:20161102T100000
DTEND:20161106T140000
SUMMARY:Taxi Neus-Servei gratuït-gent gran i persones amb mobilitat reduïda
LOCATION:
METHOD:PUBLISH
X-WR-CALNAME:capellades@capellades.cat
X-WR-TIMEZONE:Europe/Madrid
DESCRIPTION:
URI:https://www.capellades.cat/actualitat/agenda/taxi-neus-servei-gratuit-gent-gran-i-persones-amb-mobilitat-reduida.html
CLASS:PUBLIC
END:VEVENT
END:VCALENDAR
