BEGIN:VCALENDAR
VERSION:2.0
CALSCALE:GREGORIAN
PRODID:-//Diputació de Barcelona//DibaCMS//EN
BEGIN:VEVENT
UID:973
DTSTAMP:20260422T132522
DTSTART:20161102T110000
DTEND:20161106T180000
SUMMARY:Cementiri Municipal - Tots Sants
LOCATION:
METHOD:PUBLISH
X-WR-CALNAME:capellades@capellades.cat
X-WR-TIMEZONE:Europe/Madrid
DESCRIPTION:
URI:https://www.capellades.cat/actualitat/agenda/cementiri-municipal-tots-sants.html
CLASS:PUBLIC
END:VEVENT
END:VCALENDAR
