BEGIN:VCALENDAR
VERSION:2.0
CALSCALE:GREGORIAN
PRODID:-//Diputació de Barcelona//DibaCMS//EN
BEGIN:VEVENT
UID:971
DTSTAMP:20260419T175023
DTSTART:20161102T000000
DTEND:20161102T000000
SUMMARY:Ràdio Capellades 104,7FM
LOCATION:
METHOD:PUBLISH
X-WR-CALNAME:capellades@capellades.cat
X-WR-TIMEZONE:Europe/Madrid
DESCRIPTION:
URI:https://www.capellades.cat/actualitat/agenda/radio-capellades-1047fm.html
CLASS:PUBLIC
END:VEVENT
END:VCALENDAR
