BEGIN:VCALENDAR
VERSION:2.0
CALSCALE:GREGORIAN
PRODID:-//Diputació de Barcelona//DibaCMS//EN
BEGIN:VEVENT
UID:968
DTSTAMP:20260420T090058
DTSTART:20161117T190000
DTEND:20161117T000000
SUMMARY:Presentació del llibre de Aina Torres
LOCATION:
METHOD:PUBLISH
X-WR-CALNAME:capellades@capellades.cat
X-WR-TIMEZONE:Europe/Madrid
DESCRIPTION:
URI:https://www.capellades.cat/actualitat/agenda/presentacio-del-llibre-de-aina-torres.html
CLASS:PUBLIC
END:VEVENT
END:VCALENDAR
