BEGIN:VCALENDAR
VERSION:2.0
CALSCALE:GREGORIAN
PRODID:-//Diputació de Barcelona//DibaCMS//EN
BEGIN:VEVENT
UID:967
DTSTAMP:20260423T045759
DTSTART:20161116T110000
DTEND:20161116T000000
SUMMARY:Anem al teatre! - Brass brass brass
LOCATION:
METHOD:PUBLISH
X-WR-CALNAME:capellades@capellades.cat
X-WR-TIMEZONE:Europe/Madrid
DESCRIPTION:
URI:https://www.capellades.cat/actualitat/agenda/anem-al-teatre-brass-brass-brass.html
CLASS:PUBLIC
END:VEVENT
END:VCALENDAR
