BEGIN:VCALENDAR
VERSION:2.0
CALSCALE:GREGORIAN
PRODID:-//Diputació de Barcelona//DibaCMS//EN
BEGIN:VEVENT
UID:966
DTSTAMP:20260423T061426
DTSTART:20161115T180000
DTEND:20161115T000000
SUMMARY:Hora del conte - Les princeses també es tiren pets
LOCATION:
METHOD:PUBLISH
X-WR-CALNAME:capellades@capellades.cat
X-WR-TIMEZONE:Europe/Madrid
DESCRIPTION:
URI:https://www.capellades.cat/actualitat/agenda/hora-del-conte-les-princeses-tambe-es-tiren-pets.html
CLASS:PUBLIC
END:VEVENT
END:VCALENDAR
