BEGIN:VCALENDAR
VERSION:2.0
CALSCALE:GREGORIAN
PRODID:-//Diputació de Barcelona//DibaCMS//EN
BEGIN:VEVENT
UID:964
DTSTAMP:20260423T044849
DTSTART:20161113T180000
DTEND:20161113T000000
SUMMARY:43è aniversari Esbart Dansot
LOCATION:
METHOD:PUBLISH
X-WR-CALNAME:capellades@capellades.cat
X-WR-TIMEZONE:Europe/Madrid
DESCRIPTION:
URI:https://www.capellades.cat/actualitat/agenda/43e-aniversari-esbart-dansot.html
CLASS:PUBLIC
END:VEVENT
END:VCALENDAR
