BEGIN:VCALENDAR
VERSION:2.0
CALSCALE:GREGORIAN
PRODID:-//Diputació de Barcelona//DibaCMS//EN
BEGIN:VEVENT
UID:962
DTSTAMP:20260423T064057
DTSTART:20161112T100000
DTEND:20161112T000000
SUMMARY:Taller obert - Zapatos Rojos pel 25N
LOCATION:
METHOD:PUBLISH
X-WR-CALNAME:capellades@capellades.cat
X-WR-TIMEZONE:Europe/Madrid
DESCRIPTION:
URI:https://www.capellades.cat/actualitat/agenda/taller-obert-zapatos-rojos-pel-25n.html
CLASS:PUBLIC
END:VEVENT
END:VCALENDAR
