BEGIN:VCALENDAR
VERSION:2.0
CALSCALE:GREGORIAN
PRODID:-//Diputació de Barcelona//DibaCMS//EN
BEGIN:VEVENT
UID:960
DTSTAMP:20260423T044813
DTSTART:20161111T190000
DTEND:20161111T000000
SUMMARY:Trobada poètica
LOCATION:
METHOD:PUBLISH
X-WR-CALNAME:capellades@capellades.cat
X-WR-TIMEZONE:Europe/Madrid
DESCRIPTION:
URI:https://www.capellades.cat/actualitat/agenda/trobada-poetica.html
CLASS:PUBLIC
END:VEVENT
END:VCALENDAR
