BEGIN:VCALENDAR
VERSION:2.0
CALSCALE:GREGORIAN
PRODID:-//Diputació de Barcelona//DibaCMS//EN
BEGIN:VEVENT
UID:959
DTSTAMP:20260420T012603
DTSTART:20161109T190000
DTEND:20161109T000000
SUMMARY:Capellades amb les persones refugiades - Assemblea oberta
LOCATION:
METHOD:PUBLISH
X-WR-CALNAME:capellades@capellades.cat
X-WR-TIMEZONE:Europe/Madrid
DESCRIPTION:

URI:https://www.capellades.cat/actualitat/agenda/capellades-amb-les-persones-refugiades-assemblea-oberta.html
CLASS:PUBLIC
END:VEVENT
END:VCALENDAR
