BEGIN:VCALENDAR
VERSION:2.0
CALSCALE:GREGORIAN
PRODID:-//Diputació de Barcelona//DibaCMS//EN
BEGIN:VEVENT
UID:957
DTSTAMP:20260419T200422
DTSTART:20161108T183000
DTEND:20161108T000000
SUMMARY:Taller de joies de paper
LOCATION:
METHOD:PUBLISH
X-WR-CALNAME:capellades@capellades.cat
X-WR-TIMEZONE:Europe/Madrid
DESCRIPTION:TALLER DE JOIES DE PAPER A CÀRREC D'ISABEL ROCABAYERA



URI:https://www.capellades.cat/actualitat/agenda/taller-de-joies-de-paper.html
CLASS:PUBLIC
END:VEVENT
END:VCALENDAR
