BEGIN:VCALENDAR
VERSION:2.0
CALSCALE:GREGORIAN
PRODID:-//Diputació de Barcelona//DibaCMS//EN
BEGIN:VEVENT
UID:956
DTSTAMP:20260419T232514
DTSTART:20161106T180000
DTEND:20161106T000000
SUMMARY:Teatre familiar amb Les Supertietes - Xarxa Capellades
LOCATION:
METHOD:PUBLISH
X-WR-CALNAME:capellades@capellades.cat
X-WR-TIMEZONE:Europe/Madrid
DESCRIPTION:

URI:https://www.capellades.cat/actualitat/agenda/teatre-familiar-amb-les-supertietes-xarxa-capellades.html
CLASS:PUBLIC
END:VEVENT
END:VCALENDAR
