BEGIN:VCALENDAR
VERSION:2.0
CALSCALE:GREGORIAN
PRODID:-//Diputació de Barcelona//DibaCMS//EN
BEGIN:VEVENT
UID:955
DTSTAMP:20260420T015006
DTSTART:20161105T210000
DTEND:20161105T000000
SUMMARY:Teatre a La Lliga amb Houdini, l'art de la fugida
LOCATION:
METHOD:PUBLISH
X-WR-CALNAME:capellades@capellades.cat
X-WR-TIMEZONE:Europe/Madrid
DESCRIPTION:

Houdini, l'art de la fugida, és un monòleg de Teatre Imatge de tall gestual que, a través de l'ús de la pantomima, màscares i marionetes corporals, indaga en la infància i mort del famós escapista. Està interpretat per Felipe Cabezas, actor i director i dirigit per Berty Tovìas.
Pot l'home escapar a la mort, fins i tot després de la mort? Harry Houdini, famós per les seves fugides i espectacles es fa aquesta pregunta al llarg de tot l'espectacle. Des de la mort, aquest espai i temps infinit, busca la resposta entre els seus records d'infància escapant del temps que l'oprimeix.
Houdini, que va néixer Hongarès i jueu, delinqüent prematur, pobre i contra tot, que va escapar de si mateix per ser el que ell mateix volia ser, s'endinsa a realitzar la seva ultima fugida. Fora ja no li espera el públic, sinó la vida, l'amor i l'única persona que va confiar en aquest gran truc: Bess, la seva dona i amiga més enllà del sepulcre. No hi ha cel·la que sigui capaç de retenir una ànima lliure.
 

L'entrada té un preu de 9€ pels socis de La Lliga, i de 12€ pels no socis.


 


URI:https://www.capellades.cat/actualitat/agenda/teatre-a-la-lliga-amb-houdini-lart-de-la-fugida.html
CLASS:PUBLIC
END:VEVENT
END:VCALENDAR
