BEGIN:VCALENDAR
VERSION:2.0
CALSCALE:GREGORIAN
PRODID:-//Diputació de Barcelona//DibaCMS//EN
BEGIN:VEVENT
UID:953
DTSTAMP:20260421T120836
DTSTART:20161103T170000
DTEND:20161103T210000
SUMMARY:Campanya de donació de sang i plasma a Capellades
LOCATION:
METHOD:PUBLISH
X-WR-CALNAME:capellades@capellades.cat
X-WR-TIMEZONE:Europe/Madrid
DESCRIPTION:

URI:https://www.capellades.cat/actualitat/agenda/campanya-de-donacio-de-sang-i-plasma-a-capellades.html
CLASS:PUBLIC
END:VEVENT
END:VCALENDAR
