BEGIN:VCALENDAR
VERSION:2.0
CALSCALE:GREGORIAN
PRODID:-//Diputació de Barcelona//DibaCMS//EN
BEGIN:VEVENT
UID:952
DTSTAMP:20260419T173600
DTSTART:20161029T170000
DTEND:20161029T000000
SUMMARY:Presentació equips Club de Futbol Capellades
LOCATION:
METHOD:PUBLISH
X-WR-CALNAME:capellades@capellades.cat
X-WR-TIMEZONE:Europe/Madrid
DESCRIPTION:El Club de Futbol Capellades fa la presentació dels diferents equips de l'entitat

Programa:

17 h . Presentació equips

18.30 h. Partit C.F Capellades - U.E La Torre de Claramunt

20.30 h Sopar de germanor

22 h Bingo popular



URI:https://www.capellades.cat/actualitat/agenda/presentacio-equips-club-de-futbol-capellades.html
CLASS:PUBLIC
END:VEVENT
END:VCALENDAR
