BEGIN:VCALENDAR
VERSION:2.0
CALSCALE:GREGORIAN
PRODID:-//Diputació de Barcelona//DibaCMS//EN
BEGIN:VEVENT
UID:951
DTSTAMP:20260420T043627
DTSTART:20161106T180000
DTEND:20161106T000000
SUMMARY:Festival d'Orgue de Capellades - Concert de tardor
LOCATION:
METHOD:PUBLISH
X-WR-CALNAME:capellades@capellades.cat
X-WR-TIMEZONE:Europe/Madrid
DESCRIPTION:

URI:https://www.capellades.cat/actualitat/agenda/festival-dorgue-de-capellades-concert-de-tardor.html
CLASS:PUBLIC
END:VEVENT
END:VCALENDAR
