BEGIN:VCALENDAR
VERSION:2.0
CALSCALE:GREGORIAN
PRODID:-//Diputació de Barcelona//DibaCMS//EN
BEGIN:VEVENT
UID:950
DTSTAMP:20260419T174154
DTSTART:20161101T173000
DTEND:20161101T000000
SUMMARY:La Castanyada
LOCATION:
METHOD:PUBLISH
X-WR-CALNAME:capellades@capellades.cat
X-WR-TIMEZONE:Europe/Madrid
DESCRIPTION:

Tots aquells nens i nenes que vinguin a la festa de la Castanyada vestides de petites Castanyeres i/o d'Homenets del bosc tindran un petit (gran) obsequi.



URI:https://www.capellades.cat/actualitat/agenda/la-castanyada.html
CLASS:PUBLIC
END:VEVENT
END:VCALENDAR
