BEGIN:VCALENDAR
VERSION:2.0
CALSCALE:GREGORIAN
PRODID:-//Diputació de Barcelona//DibaCMS//EN
BEGIN:VEVENT
UID:949
DTSTAMP:20260420T045104
DTSTART:20161028T190000
DTEND:20161028T000000
SUMMARY:El Documental a La Lliga
LOCATION:
METHOD:PUBLISH
X-WR-CALNAME:capellades@capellades.cat
X-WR-TIMEZONE:Europe/Madrid
DESCRIPTION:

URI:https://www.capellades.cat/actualitat/agenda/el-documental-a-la-lliga.html
CLASS:PUBLIC
END:VEVENT
END:VCALENDAR
