BEGIN:VCALENDAR
VERSION:2.0
CALSCALE:GREGORIAN
PRODID:-//Diputació de Barcelona//DibaCMS//EN
BEGIN:VEVENT
UID:948
DTSTAMP:20260420T073443
DTSTART:20161023T090000
DTEND:20161023T000000
SUMMARY:VII Cursa i caminada Neandertal 2016
LOCATION:
METHOD:PUBLISH
X-WR-CALNAME:capellades@capellades.cat
X-WR-TIMEZONE:Europe/Madrid
DESCRIPTION:

URI:https://www.capellades.cat/actualitat/agenda/vii-cursa-i-caminada-neandertal-2016.html
CLASS:PUBLIC
END:VEVENT
END:VCALENDAR
