BEGIN:VCALENDAR
VERSION:2.0
CALSCALE:GREGORIAN
PRODID:-//Diputació de Barcelona//DibaCMS//EN
BEGIN:VEVENT
UID:947
DTSTAMP:20260419T235708
DTSTART:20161022T190000
DTEND:20161022T000000
SUMMARY:Concert de tardor a Paper de Música 
LOCATION:
METHOD:PUBLISH
X-WR-CALNAME:capellades@capellades.cat
X-WR-TIMEZONE:Europe/Madrid
DESCRIPTION:

URI:https://www.capellades.cat/actualitat/agenda/concert-de-tardor-a-paper-de-musica-.html
CLASS:PUBLIC
END:VEVENT
END:VCALENDAR
