BEGIN:VCALENDAR
VERSION:2.0
CALSCALE:GREGORIAN
PRODID:-//Diputació de Barcelona//DibaCMS//EN
BEGIN:VEVENT
UID:944
DTSTAMP:20260420T013607
DTSTART:20161016T103000
DTEND:20161016T120000
SUMMARY:Tastet de cultura popular a la Residència d'avis
LOCATION:
METHOD:PUBLISH
X-WR-CALNAME:capellades@capellades.cat
X-WR-TIMEZONE:Europe/Madrid
DESCRIPTION:

ACTE PER A RESIDENTS I FAMILIARS

URI:https://www.capellades.cat/actualitat/agenda/tastet-de-cultura-popular-a-la-residencia-davis.html
CLASS:PUBLIC
END:VEVENT
END:VCALENDAR
