BEGIN:VCALENDAR
VERSION:2.0
CALSCALE:GREGORIAN
PRODID:-//Diputació de Barcelona//DibaCMS//EN
BEGIN:VEVENT
UID:943
DTSTAMP:20260419T162848
DTSTART:20161015T213000
DTEND:20161015T000000
SUMMARY:Funció del Miracle d'Anna Súllivan a Piera
LOCATION:
METHOD:PUBLISH
X-WR-CALNAME:capellades@capellades.cat
X-WR-TIMEZONE:Europe/Madrid
DESCRIPTION:

URI:https://www.capellades.cat/actualitat/agenda/funcio-del-miracle-danna-sullivan-a-piera.html
CLASS:PUBLIC
END:VEVENT
END:VCALENDAR
