BEGIN:VCALENDAR
VERSION:2.0
CALSCALE:GREGORIAN
PRODID:-//Diputació de Barcelona//DibaCMS//EN
BEGIN:VEVENT
UID:942
DTSTAMP:20260419T214428
DTSTART:20161015T080000
DTEND:20161015T000000
SUMMARY:Sortida al jaciment d'Empúries amb La Lliga
LOCATION:
METHOD:PUBLISH
X-WR-CALNAME:capellades@capellades.cat
X-WR-TIMEZONE:Europe/Madrid
DESCRIPTION:

URI:https://www.capellades.cat/actualitat/agenda/sortida-al-jaciment-dempuries-amb-la-lliga.html
CLASS:PUBLIC
END:VEVENT
END:VCALENDAR
