BEGIN:VCALENDAR
VERSION:2.0
CALSCALE:GREGORIAN
PRODID:-//Diputació de Barcelona//DibaCMS//EN
BEGIN:VEVENT
UID:940
DTSTAMP:20260419T212307
DTSTART:20161008T000000
DTEND:20161008T000000
SUMMARY:Pintada d'un mural de l'ANC Capellades en homenatge al President Companys
LOCATION:
METHOD:PUBLISH
X-WR-CALNAME:capellades@capellades.cat
X-WR-TIMEZONE:Europe/Madrid
DESCRIPTION:Aquest dissabte dia 8 d'octubre, l'ANC Capellades pintarà un mural commemoratiu al·lusiu al personatge històric Lluís Companys i Jover, perquè llueixi el dia 15 d'octubre, en l'acte popular d'homenatge al President de la Generalitat de Catalunya afusellat ara fa 76 anys.



URI:https://www.capellades.cat/actualitat/agenda/pintada-dun-mural-de-lanc-capellades-en-homenatge-al-president-companys.html
CLASS:PUBLIC
END:VEVENT
END:VCALENDAR
