BEGIN:VCALENDAR
VERSION:2.0
CALSCALE:GREGORIAN
PRODID:-//Diputació de Barcelona//DibaCMS//EN
BEGIN:VEVENT
UID:939
DTSTAMP:20260422T032544
DTSTART:20161013T200000
DTEND:20161013T000000
SUMMARY:Presentació del Cava Clos Bisbal a La Lliga
LOCATION:
METHOD:PUBLISH
X-WR-CALNAME:capellades@capellades.cat
X-WR-TIMEZONE:Europe/Madrid
DESCRIPTION:L'Edgar Bisbal ens convida a tots a la presentació del seu cava.

La presentació anirà a càrrec de l'enòloga Begoña Ferrer Gustems de la Bodega Ca l'Emilia de Capellades



URI:https://www.capellades.cat/actualitat/agenda/presentacio-del-cava-clos-bisbal-a-la-lliga.html
CLASS:PUBLIC
END:VEVENT
END:VCALENDAR
