BEGIN:VCALENDAR
VERSION:2.0
CALSCALE:GREGORIAN
PRODID:-//Diputació de Barcelona//DibaCMS//EN
BEGIN:VEVENT
UID:937
DTSTAMP:20260419T181314
DTSTART:20161009T190000
DTEND:20161009T000000
SUMMARY:Funció del Miracle d'Anna Súllivan a Sta. Coloma de Queralt
LOCATION:
METHOD:PUBLISH
X-WR-CALNAME:capellades@capellades.cat
X-WR-TIMEZONE:Europe/Madrid
DESCRIPTION:

URI:https://www.capellades.cat/actualitat/agenda/funcio-del-miracle-danna-sullivan-a-sta-coloma-de-queralt.html
CLASS:PUBLIC
END:VEVENT
END:VCALENDAR
