BEGIN:VCALENDAR
VERSION:2.0
CALSCALE:GREGORIAN
PRODID:-//Diputació de Barcelona//DibaCMS//EN
BEGIN:VEVENT
UID:936
DTSTAMP:20260419T194838
DTSTART:20161007T000000
DTEND:20161008T000000
SUMMARY:Inici de curs Coral Xeremell
LOCATION:
METHOD:PUBLISH
X-WR-CALNAME:capellades@capellades.cat
X-WR-TIMEZONE:Europe/Madrid
DESCRIPTION:

URI:https://www.capellades.cat/actualitat/agenda/inici-de-curs-coral-xeremell.html
CLASS:PUBLIC
END:VEVENT
END:VCALENDAR
