BEGIN:VCALENDAR
VERSION:2.0
CALSCALE:GREGORIAN
PRODID:-//Diputació de Barcelona//DibaCMS//EN
BEGIN:VEVENT
UID:935
DTSTAMP:20260419T195249
DTSTART:20161007T190000
DTEND:20161007T000000
SUMMARY:Xerrada sobre els refugiats - presentació protocol comarcal d'acollida 
LOCATION:
METHOD:PUBLISH
X-WR-CALNAME:capellades@capellades.cat
X-WR-TIMEZONE:Europe/Madrid
DESCRIPTION:

URI:https://www.capellades.cat/actualitat/agenda/xerrada-sobre-els-refugiats-presentacio-protocol-comarcal-dacollida-.html
CLASS:PUBLIC
END:VEVENT
END:VCALENDAR
