BEGIN:VCALENDAR
VERSION:2.0
CALSCALE:GREGORIAN
PRODID:-//Diputació de Barcelona//DibaCMS//EN
BEGIN:VEVENT
UID:933
DTSTAMP:20260420T022118
DTSTART:20160927T183000
DTEND:20160927T000000
SUMMARY:Lectura dramatitzada de contes a la Biblioteca
LOCATION:
METHOD:PUBLISH
X-WR-CALNAME:capellades@capellades.cat
X-WR-TIMEZONE:Europe/Madrid
DESCRIPTION:

URI:https://www.capellades.cat/actualitat/agenda/lectura-dramatitzada-de-contes-a-la-biblioteca.html
CLASS:PUBLIC
END:VEVENT
END:VCALENDAR
