BEGIN:VCALENDAR
VERSION:2.0
CALSCALE:GREGORIAN
PRODID:-//Diputació de Barcelona//DibaCMS//EN
BEGIN:VEVENT
UID:925
DTSTAMP:20260420T055619
DTSTART:20160724T000000
DTEND:20160816T000000
SUMMARY:Exposició de Patchwork al Museu Molí Paperer
LOCATION:
METHOD:PUBLISH
X-WR-CALNAME:capellades@capellades.cat
X-WR-TIMEZONE:Europe/Madrid
DESCRIPTION:

URI:https://www.capellades.cat/actualitat/agenda/exposicio-de-patchwork-al-museu-moli-paperer.html
CLASS:PUBLIC
END:VEVENT
END:VCALENDAR
