BEGIN:VCALENDAR
VERSION:2.0
CALSCALE:GREGORIAN
PRODID:-//Diputació de Barcelona//DibaCMS//EN
BEGIN:VEVENT
UID:924
DTSTAMP:20260420T043745
DTSTART:20160805T000000
DTEND:20160806T000000
SUMMARY:Torneig de frontó a la piscina
LOCATION:
METHOD:PUBLISH
X-WR-CALNAME:capellades@capellades.cat
X-WR-TIMEZONE:Europe/Madrid
DESCRIPTION:

URI:https://www.capellades.cat/actualitat/agenda/torneig-de-fronto-a-la-piscina.html
CLASS:PUBLIC
END:VEVENT
END:VCALENDAR
