BEGIN:VCALENDAR
VERSION:2.0
CALSCALE:GREGORIAN
PRODID:-//Diputació de Barcelona//DibaCMS//EN
BEGIN:VEVENT
UID:921
DTSTAMP:20260420T071635
DTSTART:20160730T193000
DTEND:20160730T233000
SUMMARY:Nit de Comerç 2016
LOCATION:
METHOD:PUBLISH
X-WR-CALNAME:capellades@capellades.cat
X-WR-TIMEZONE:Europe/Madrid
DESCRIPTION:

URI:https://www.capellades.cat/actualitat/agenda/nit-de-comerc-2016.html
CLASS:PUBLIC
END:VEVENT
END:VCALENDAR
