BEGIN:VCALENDAR
VERSION:2.0
CALSCALE:GREGORIAN
PRODID:-//Diputació de Barcelona//DibaCMS//EN
BEGIN:VEVENT
UID:917
DTSTAMP:20260419T162943
DTSTART:20160722T190000
DTEND:20160722T000000
SUMMARY:Assemblea oberta de l'ANC
LOCATION:
METHOD:PUBLISH
X-WR-CALNAME:capellades@capellades.cat
X-WR-TIMEZONE:Europe/Madrid
DESCRIPTION:

URI:https://www.capellades.cat/actualitat/agenda/assemblea-oberta-de-lanc.html
CLASS:PUBLIC
END:VEVENT
END:VCALENDAR
