BEGIN:VCALENDAR
VERSION:2.0
CALSCALE:GREGORIAN
PRODID:-//Diputació de Barcelona//DibaCMS//EN
BEGIN:VEVENT
UID:916
DTSTAMP:20260421T132709
DTSTART:20160722T000000
DTEND:20160724T000000
SUMMARY:Beach Volley Tour 2016
LOCATION:
METHOD:PUBLISH
X-WR-CALNAME:capellades@capellades.cat
X-WR-TIMEZONE:Europe/Madrid
DESCRIPTION:

URI:https://www.capellades.cat/actualitat/agenda/beach-volley-tour-2016.html
CLASS:PUBLIC
END:VEVENT
END:VCALENDAR
