BEGIN:VCALENDAR
VERSION:2.0
CALSCALE:GREGORIAN
PRODID:-//Diputació de Barcelona//DibaCMS//EN
BEGIN:VEVENT
UID:912
DTSTAMP:20260420T060917
DTSTART:20160715T190000
DTEND:20160715T000000
SUMMARY:Govern obert- compareixença pública pel primer any de mandat
LOCATION:
METHOD:PUBLISH
X-WR-CALNAME:capellades@capellades.cat
X-WR-TIMEZONE:Europe/Madrid
DESCRIPTION:

URI:https://www.capellades.cat/actualitat/agenda/govern-obert-compareixenca-publica-pel-primer-any-de-mandat.html
CLASS:PUBLIC
END:VEVENT
END:VCALENDAR
