BEGIN:VCALENDAR
VERSION:2.0
CALSCALE:GREGORIAN
PRODID:-//Diputació de Barcelona//DibaCMS//EN
BEGIN:VEVENT
UID:911
DTSTAMP:20260419T165258
DTSTART:20160714T200000
DTEND:20160714T000000
SUMMARY:Acte de reconeixement a les entitats esportives de Capellades
LOCATION:
METHOD:PUBLISH
X-WR-CALNAME:capellades@capellades.cat
X-WR-TIMEZONE:Europe/Madrid
DESCRIPTION:La Regidoria d'esports de l'Ajuntament de Capelldes farà un acte de reconeixement a les entitats esportives de la vila de Capellades per la tasca i fites esportives assolides durant la temporada 2015-2016



 

URI:https://www.capellades.cat/actualitat/agenda/acte-de-reconeixement-a-les-entitats-esportives-de-capellades.html
CLASS:PUBLIC
END:VEVENT
END:VCALENDAR
