BEGIN:VCALENDAR
VERSION:2.0
CALSCALE:GREGORIAN
PRODID:-//Diputació de Barcelona//DibaCMS//EN
BEGIN:VEVENT
UID:910
DTSTAMP:20260419T170310
DTSTART:20160714T170000
DTEND:20160714T210000
SUMMARY:Jornada de donació de sang
LOCATION:
METHOD:PUBLISH
X-WR-CALNAME:capellades@capellades.cat
X-WR-TIMEZONE:Europe/Madrid
DESCRIPTION:

URI:https://www.capellades.cat/actualitat/agenda/jornada-de-donacio-de-sang.html
CLASS:PUBLIC
END:VEVENT
END:VCALENDAR
