BEGIN:VCALENDAR
VERSION:2.0
CALSCALE:GREGORIAN
PRODID:-//Diputació de Barcelona//DibaCMS//EN
BEGIN:VEVENT
UID:908
DTSTAMP:20260420T025350
DTSTART:20160710T180000
DTEND:20160710T000000
SUMMARY:Festa de fi de curs de l'Escola Bressol Vailets
LOCATION:
METHOD:PUBLISH
X-WR-CALNAME:capellades@capellades.cat
X-WR-TIMEZONE:Europe/Madrid
DESCRIPTION:

URI:https://www.capellades.cat/actualitat/agenda/festa-de-fi-de-curs-de-lescola-bressol-vailets.html
CLASS:PUBLIC
END:VEVENT
END:VCALENDAR
